BEGIN:VCALENDAR
VERSION:2.0
PRODID:-//Axents - ECPv6.15.17.1//NONSGML v1.0//EN
CALSCALE:GREGORIAN
METHOD:PUBLISH
X-WR-CALNAME:Axents
X-ORIGINAL-URL:https://www.axents.fr
X-WR-CALDESC:Évènements pour Axents
REFRESH-INTERVAL;VALUE=DURATION:PT1H
X-Robots-Tag:noindex
X-PUBLISHED-TTL:PT1H
BEGIN:VTIMEZONE
TZID:Europe/Paris
BEGIN:DAYLIGHT
TZOFFSETFROM:+0100
TZOFFSETTO:+0200
TZNAME:CEST
DTSTART:20240331T010000
END:DAYLIGHT
BEGIN:STANDARD
TZOFFSETFROM:+0200
TZOFFSETTO:+0100
TZNAME:CET
DTSTART:20241027T010000
END:STANDARD
BEGIN:DAYLIGHT
TZOFFSETFROM:+0100
TZOFFSETTO:+0200
TZNAME:CEST
DTSTART:20250330T010000
END:DAYLIGHT
BEGIN:STANDARD
TZOFFSETFROM:+0200
TZOFFSETTO:+0100
TZNAME:CET
DTSTART:20251026T010000
END:STANDARD
BEGIN:DAYLIGHT
TZOFFSETFROM:+0100
TZOFFSETTO:+0200
TZNAME:CEST
DTSTART:20260329T010000
END:DAYLIGHT
BEGIN:STANDARD
TZOFFSETFROM:+0200
TZOFFSETTO:+0100
TZNAME:CET
DTSTART:20261025T010000
END:STANDARD
END:VTIMEZONE
BEGIN:VEVENT
DTSTART;TZID=Europe/Paris:20250320T140000
DTEND;TZID=Europe/Paris:20250320T170000
DTSTAMP:20260424T152430
CREATED:20250319T104114Z
LAST-MODIFIED:20250319T104114Z
UID:5114-1742479200-1742490000@www.axents.fr
SUMMARY:Pluriactivité au féminin - Comment conjuguer emploi & entrepreneuriat ?
DESCRIPTION:                Date : Jeudi | 20 | Mars | 2025\n                Heure : 14H00\n                Lieu : Les locaux AXENTS | 77 avenue Maréchal Foch 34500 Béziers\n                Organisé par : Le Club des Femmes Créatrices d’AXENTS Béziers\n                En partenariat avec  STEFI !\n                Public : Féminin\n                Contact : 04 67 18 10 76\n                E-mail : contact@axents.fr\n\n                Une occasion unique d’échanger\, de poser vos questions et d’explorer des solutions adaptées à votre parcours.\n\n\n                Lors de cet échange\, vous découvrirez les différents domaines d’activités proposés par STEFI\, ainsi que des solutions \n                concrètes pour allier entrepreneuriat et emploi temporaire ou à mi-temps.\n\n                                 Vous n’êtes pas encore inscrite ? Il est encore temps !\n\n                Contactez-nous au 04 67 18 10 76.\n\n                              À très bientôt\,               
URL:https://www.axents.fr/evenement/pluriactivite-au-feminin-comment-conjuguer-emploi-entrepreneuriat/
LOCATION:Axents Béziers\, 77 Av. Maréchal Foch\, BEZIERS\, Occitanie\, 34500\, France
CATEGORIES:Atelier
ATTACH;FMTTYPE=image/jpeg:https://www.axents.fr/wp-content/uploads/2025/03/Atelier-le-club-des-femmes-creatrices-Beziers-2.jpg
ORGANIZER;CN="Le Club des Femmes Cr%C3%A9atrices d'AXENTS B%C3%A9ziers":MAILTO:contact@axents.fr
END:VEVENT
BEGIN:VEVENT
DTSTART;TZID=Europe/Paris:20250325T100000
DTEND;TZID=Europe/Paris:20250325T160000
DTSTAMP:20260424T152430
CREATED:20250319T114543Z
LAST-MODIFIED:20250319T114543Z
UID:5129-1742896800-1742918400@www.axents.fr
SUMMARY:Forum des entrepreneuses d'Axents Béziers 2025
DESCRIPTION:ENTREPRENDRE AU FÉMININ C’EST POSSIBLE\nDans le cadre du Mois de l’Égalité l’association Axents vous propose un événement gratuit le 25 mars de 10h à 16h à la Maison de Ma Région dans l’Hérault à Béziers un atelier créa au féminin intitulé « Entreprendre au féminin c’est possible ». \n  \n🏠 Maison de Ma Région dans l’Hérault\n📅 Date : Mardi 25 mars\n⏱️ Horaire : De 10h à 16h\n      Adresse : 44 bis allée Paul Riquet📍 34500 Béziers (Hérault)      Maison de Ma Région dans l’Hérault.\n📞 Téléphone : 04 67 22 89 34\n📢 Evénement gratuit \n \nLe Forum 2025\nCe FORUM a pour objectif : \n\nde conseiller et soutenir la création d’activités économiques par l’accueil\, l’accompagnement et le suivi des porteurs de projet.\nde mettre également à disposition des entreprises\, associations\, collectivités locales\, des informations techniques en relation avec le domaine de l’entrepreneuriat au féminin.\nde faire la promotion de la coopération internationale\, dans le cadre de ces compétences sur le Bassin Méditerranéen au travers d’échanges\, de transfert de savoir-faire et de projets de partenariat économique.\n\nAu cours de cette journée une dizaine de stands seront répartis dans la Maison de Ma Région et sur son parvis par des femmes entrepreneures qui présenteront leurs activités et expliqueront de quelle manière Axents les a aidées pour la réalisation de leurs projets. \nVenez nombreux rencontrer ces femmes qui seront ravies de partager leurs expériences et peut-être que grâce à elles vous aussi vous lancerez dans l’entrepreneuriat. \nEvénement ayant reçu le soutien de la Région Occitanie / Pyrénées-Méditerranée \n  \nORGANISATION\nMaison de Ma Région dans l’Hérault \nAdresse : 44 bis allées Paul RIQUET (entrée coté place Jean Jaurès)\, 34500 Béziers \nTéléphone : 04 67 22 89 34 \n  \n 
URL:https://www.axents.fr/evenement/forum-des-entrepreneuses-daxents-beziers-2025/
LOCATION:La Maison de ma Région Béziers\, 44 Bis All. Paul Riquet\, BEZIERS\, Occitanie\, 34500\, France
CATEGORIES:Forum
ATTACH;FMTTYPE=image/jpeg:https://www.axents.fr/wp-content/uploads/2025/03/Atelier-le-club-des-femmes-creatrices-Beziers-2-1.jpg
END:VEVENT
END:VCALENDAR