BEGIN:VCALENDAR
VERSION:2.0
PRODID:-//Axents - ECPv6.15.17.1//NONSGML v1.0//EN
CALSCALE:GREGORIAN
METHOD:PUBLISH
X-ORIGINAL-URL:https://www.axents.fr
X-WR-CALDESC:Évènements pour Axents
REFRESH-INTERVAL;VALUE=DURATION:PT1H
X-Robots-Tag:noindex
X-PUBLISHED-TTL:PT1H
BEGIN:VTIMEZONE
TZID:Europe/Paris
BEGIN:DAYLIGHT
TZOFFSETFROM:+0100
TZOFFSETTO:+0200
TZNAME:CEST
DTSTART:20240331T010000
END:DAYLIGHT
BEGIN:STANDARD
TZOFFSETFROM:+0200
TZOFFSETTO:+0100
TZNAME:CET
DTSTART:20241027T010000
END:STANDARD
BEGIN:DAYLIGHT
TZOFFSETFROM:+0100
TZOFFSETTO:+0200
TZNAME:CEST
DTSTART:20250330T010000
END:DAYLIGHT
BEGIN:STANDARD
TZOFFSETFROM:+0200
TZOFFSETTO:+0100
TZNAME:CET
DTSTART:20251026T010000
END:STANDARD
BEGIN:DAYLIGHT
TZOFFSETFROM:+0100
TZOFFSETTO:+0200
TZNAME:CEST
DTSTART:20260329T010000
END:DAYLIGHT
BEGIN:STANDARD
TZOFFSETFROM:+0200
TZOFFSETTO:+0100
TZNAME:CET
DTSTART:20261025T010000
END:STANDARD
END:VTIMEZONE
BEGIN:VEVENT
DTSTART;TZID=Europe/Paris:20251014T093000
DTEND;TZID=Europe/Paris:20251014T163000
DTSTAMP:20260424T045156
CREATED:20250723T113751Z
LAST-MODIFIED:20250801T094743Z
UID:5825-1760434200-1760459400@www.axents.fr
SUMMARY:FORUM 2025
DESCRIPTION:21 ANS DU FORUM DE LA CRÉATION D’ENTREPRISE\n \n« RÉSEAUTER PLUS POUR GAGNER PLUS »\n \nAXENTS Le tremplin des entrepreneurs organise la 21ème édition du forum de la Création d’Entreprise le mardi 14 Octobre 2025\n📢 Infos pratiques\n📅 : Mardi 14 octobre 2025📍 : ESPACE GISELE HALIMI\, 35 Rue de la HAYE\, 34080 MONTPELLIER🚊 : Transport en commun\, parking\, accessibilité aux personnes à mobilité réduite \n \nAu programme du Forum 2025\nPlacé sous le thème « Réseauter plus pour gagner plus »\, cette édition met en lumière la puissance du réseau comme levier de réussite entrepreneuriale. Découvrez les temps forts de la journée : \n🎤 Conférences inspirantesDes intervenants de renom partageront leur expertise en financement\, marketing\, et développement du réseau\, pour vous aider à franchir un cap. \n🛠️ Ateliers pratiquesDes opportunités de participer à des sessions interactives sur le pitch entrepreneurial\, le réseautage efficace\, et la stratégie digitale\, conçues pour renforcer vos compétences. \n🗣 Témoignages d’entrepreneursPlongez dans les récits authentiques d’hommes et de femmes qui ont osé entreprendre : leurs parcours\, leurs réussites\, leurs défis\, leurs conseils. \n🤝 Espaces d’accompagnementProfitez de conseils personnalisés avec des coachs\, des experts pour un diagnostic de projet\, un appui juridique\, ou des recommandations sur mesure. \n🏛️ Interventions institutionnellesComme chaque année\, les acteurs institutionnels du territoire seront présents pour échanger et réaffirmer leur soutien à l’entrepreneuriat local. \nEn savoir plus\nJe m’inscris
URL:https://www.axents.fr/evenement/forum-2025/
LOCATION:Espace Gisèle Halimi\, 35 rue de la Haye\, Montpellier\, Occitanie\, 34080\, France
CATEGORIES:Forum
ATTACH;FMTTYPE=image/jpeg:https://www.axents.fr/wp-content/uploads/2025/07/Maquette_Forum_2025_VERSION_3.jpg
END:VEVENT
END:VCALENDAR