BEGIN:VCALENDAR
VERSION:2.0
PRODID:-//Axents - ECPv6.15.17.1//NONSGML v1.0//EN
CALSCALE:GREGORIAN
METHOD:PUBLISH
X-WR-CALNAME:Axents
X-ORIGINAL-URL:https://www.axents.fr
X-WR-CALDESC:Évènements pour Axents
REFRESH-INTERVAL;VALUE=DURATION:PT1H
X-Robots-Tag:noindex
X-PUBLISHED-TTL:PT1H
BEGIN:VTIMEZONE
TZID:Europe/Paris
BEGIN:DAYLIGHT
TZOFFSETFROM:+0100
TZOFFSETTO:+0200
TZNAME:CEST
DTSTART:20240331T010000
END:DAYLIGHT
BEGIN:STANDARD
TZOFFSETFROM:+0200
TZOFFSETTO:+0100
TZNAME:CET
DTSTART:20241027T010000
END:STANDARD
BEGIN:DAYLIGHT
TZOFFSETFROM:+0100
TZOFFSETTO:+0200
TZNAME:CEST
DTSTART:20250330T010000
END:DAYLIGHT
BEGIN:STANDARD
TZOFFSETFROM:+0200
TZOFFSETTO:+0100
TZNAME:CET
DTSTART:20251026T010000
END:STANDARD
BEGIN:DAYLIGHT
TZOFFSETFROM:+0100
TZOFFSETTO:+0200
TZNAME:CEST
DTSTART:20260329T010000
END:DAYLIGHT
BEGIN:STANDARD
TZOFFSETFROM:+0200
TZOFFSETTO:+0100
TZNAME:CET
DTSTART:20261025T010000
END:STANDARD
END:VTIMEZONE
BEGIN:VEVENT
DTSTART;TZID=Europe/Paris:20250407T140000
DTEND;TZID=Europe/Paris:20250407T160000
DTSTAMP:20260424T152119
CREATED:20250402T082604Z
LAST-MODIFIED:20250403T085150Z
UID:5240-1744034400-1744041600@www.axents.fr
SUMMARY:Créer Facilement Des Designs Professionnels avec CANVA
DESCRIPTION:Date : Lundi | 07 | Avril | 2025\nHeure : 14H00\nLieu : Maison de Ma Région | 44 bis\, Les Allées Paul Riquet\, 34500 Béziers\nOrganisé par : Le Club des Femmes Créatrices d’AXENTS Béziers\nPublic : Féminin\nContact : 04 67 18 10 76\nE-mail : contact@axents.fr\n\nContactez-nous au 04 67 18 10 76.\nÀ très bientôt\,               
URL:https://www.axents.fr/evenement/creer-facilement-des-designs-professionnels-avec-canva/
LOCATION:Axents Béziers\, 77 Av. Maréchal Foch\, BEZIERS\, Occitanie\, 34500\, France
CATEGORIES:Atelier
ATTACH;FMTTYPE=image/jpeg:https://www.axents.fr/wp-content/uploads/2025/04/Atelier-le-club-des-femmes-creatrices-Beziers-4.jpg
ORGANIZER;CN="Le Club des Femmes Cr%C3%A9atrices d'AXENTS B%C3%A9ziers":MAILTO:contact@axents.fr
END:VEVENT
END:VCALENDAR